BEGIN:VCALENDAR
VERSION:2.0
PRODID:-//CRWD - ECPv6.15.20//NONSGML v1.0//EN
CALSCALE:GREGORIAN
METHOD:PUBLISH
X-WR-CALNAME:CRWD
X-ORIGINAL-URL:https://www.capitolregionwd.org
X-WR-CALDESC:Events for CRWD
REFRESH-INTERVAL;VALUE=DURATION:PT1H
X-Robots-Tag:noindex
X-PUBLISHED-TTL:PT1H
BEGIN:VTIMEZONE
TZID:America/Chicago
BEGIN:DAYLIGHT
TZOFFSETFROM:-0600
TZOFFSETTO:-0500
TZNAME:CDT
DTSTART:20250309T080000
END:DAYLIGHT
BEGIN:STANDARD
TZOFFSETFROM:-0500
TZOFFSETTO:-0600
TZNAME:CST
DTSTART:20251102T070000
END:STANDARD
BEGIN:DAYLIGHT
TZOFFSETFROM:-0600
TZOFFSETTO:-0500
TZNAME:CDT
DTSTART:20260308T080000
END:DAYLIGHT
BEGIN:STANDARD
TZOFFSETFROM:-0500
TZOFFSETTO:-0600
TZNAME:CST
DTSTART:20261101T070000
END:STANDARD
BEGIN:DAYLIGHT
TZOFFSETFROM:-0600
TZOFFSETTO:-0500
TZNAME:CDT
DTSTART:20270314T080000
END:DAYLIGHT
BEGIN:STANDARD
TZOFFSETFROM:-0500
TZOFFSETTO:-0600
TZNAME:CST
DTSTART:20271107T070000
END:STANDARD
END:VTIMEZONE
BEGIN:VEVENT
DTSTART;TZID=America/Chicago:20260424T100000
DTEND;TZID=America/Chicago:20260424T160000
DTSTAMP:20260421T045153
CREATED:20260225T212858Z
LAST-MODIFIED:20260305T160817Z
UID:10000380-1777024800-1777046400@www.capitolregionwd.org
SUMMARY:We Are Water MN Exhibit
DESCRIPTION:We Are Water MN is a traveling exhibit that examines water issues across the state and in local communities through personal stories\, histories\, and scientific information. It strengthens Minnesotans’ relationships with water\, exposes visitors to new perspectives\, and increases participation in water stewardship activities. \nWe invite you to visit the exhibit\, hosted by Capitol Region Watershed District (CRWD) from April 23 to June 14\, 2026\, at our Watershed Learning Center. The exhibit will be open from 10:00 a.m. to 4:00 p.m. on Mondays\, Wednesdays\, Thursdays\, and Fridays\, and from 1:00 p.m. to 7:00 p.m. on Tuesdays. Please note that CRWD will be closed on Memorial Day (Monday\, May 25\, 2026). \nThe exhibit includes over 20 unique pieces. We recommend allowing 30-60 minutes to experience the full exhibit. \n  \nEveryone is welcome at CRWD. We are committed to creating a safe environment for all visitors. If there are any safety updates\, we will post them here and notify all registered participants. Questions? Please contact us; we’re happy to help!  \nGetting Here\nBy Metro Transit: Our Watershed Learning Center is located six blocks (.51 miles) from the Snelling Avenue station on the Green Line. Also accessible from the A Line and routes 67 and 21. Visit metrotransit.org to plan your route. \nBy Car: From Snelling Avenue/MN 51\, turn west on Thomas Avenue and go to Aldine Street. CRWD is on the southwest corner of the Thomas Avenue and Aldine Street intersection. \nParking: CRWD has two parking lots. The east lot is accessible from Aldine Street; the west lot is accessible from Thomas Avenue. On-street parking is also available on Thomas Avenue and Aldine Street. Bike racks are available on the west side of the building. \nWe Are Water MN is a project of the Minnesota Pollution Control Agency and the Minnesota Humanities Center in partnership with the Minnesota Historical Society; the Board of Water and Soil Resources; the Minnesota Departments of Agriculture\, Health\, and Natural Resources; and University of Minnesota Extension. We are Water MN is funded by the Clean Water\, Land\, & Legacy Fund that was created with the vote of the people of Minnesota on November 4\, 2008.
URL:https://www.capitolregionwd.org/event/we-are-water-mn-exhibit/2026-04-24/
LOCATION:Capitol Region Watershed District\, 595 Aldine Street\, Saint Paul\, MN\, 55104\, United States
CATEGORIES:CRWD Events
ATTACH;FMTTYPE=image/jpeg:https://www.capitolregionwd.org/wp-content/uploads/2026/02/event_we_are_water.jpg
END:VEVENT
END:VCALENDAR