BEGIN:VCALENDAR
VERSION:2.0
PRODID:-//CRWD - ECPv6.15.20//NONSGML v1.0//EN
CALSCALE:GREGORIAN
METHOD:PUBLISH
X-WR-CALNAME:CRWD
X-ORIGINAL-URL:https://www.capitolregionwd.org
X-WR-CALDESC:Events for CRWD
REFRESH-INTERVAL;VALUE=DURATION:PT1H
X-Robots-Tag:noindex
X-PUBLISHED-TTL:PT1H
BEGIN:VTIMEZONE
TZID:America/Chicago
BEGIN:DAYLIGHT
TZOFFSETFROM:-0600
TZOFFSETTO:-0500
TZNAME:CDT
DTSTART:20250309T080000
END:DAYLIGHT
BEGIN:STANDARD
TZOFFSETFROM:-0500
TZOFFSETTO:-0600
TZNAME:CST
DTSTART:20251102T070000
END:STANDARD
BEGIN:DAYLIGHT
TZOFFSETFROM:-0600
TZOFFSETTO:-0500
TZNAME:CDT
DTSTART:20260308T080000
END:DAYLIGHT
BEGIN:STANDARD
TZOFFSETFROM:-0500
TZOFFSETTO:-0600
TZNAME:CST
DTSTART:20261101T070000
END:STANDARD
BEGIN:DAYLIGHT
TZOFFSETFROM:-0600
TZOFFSETTO:-0500
TZNAME:CDT
DTSTART:20270314T080000
END:DAYLIGHT
BEGIN:STANDARD
TZOFFSETFROM:-0500
TZOFFSETTO:-0600
TZNAME:CST
DTSTART:20271107T070000
END:STANDARD
END:VTIMEZONE
BEGIN:VEVENT
DTSTART;TZID=America/Chicago:20260408T173000
DTEND;TZID=America/Chicago:20260408T190000
DTSTAMP:20260423T045005
CREATED:20260213T201906Z
LAST-MODIFIED:20260402T194253Z
UID:10000361-1775669400-1775674800@www.capitolregionwd.org
SUMMARY:Community Advisory Committee Meeting
DESCRIPTION:The Community Advisory Committee (CAC) assists the Board of Managers with organizational development\, planning processes and program implementation. The CAC strengthens the connections between Capitol Region Watershed District (CRWD) and its residents. \nCAC meetings are held the 2nd Wednesday of each month at 5:30 P.M. unless otherwise noted\, or a special meeting is called. Meetings in March – November are held at the District office\, 595 Aldine Street\, Saint Paul\, MN 55104. Meetings in December – February are held online. \nA meeting agenda will be added at least two business days before the meeting. \nView April 8\, 2026\, Community Advisory Committee Meeting Agenda PDF \nView and Download the April 8\, 2026\, Community Advisory Committee Meeting Packet PDF via SharePoint.com \nOnce approved\, meeting minutes from the past year are in the Minutes Archive.
URL:https://www.capitolregionwd.org/event/community-advisory-committee-2026-apr/
LOCATION:CRWD\, 595 Aldine Street\, Saint Paul\, MN\, 55104\, United States
CATEGORIES:CRWD Events
ATTACH;FMTTYPE=image/jpeg:https://www.capitolregionwd.org/wp-content/uploads/2021/12/CRWD_0009_Position_01a-scaled.jpg
END:VEVENT
END:VCALENDAR